BEGIN:VCALENDAR
VERSION:2.0
PRODID:icalendar-ruby
CALSCALE:GREGORIAN
METHOD:PUBLISH
BEGIN:VEVENT
DTSTAMP:20260423T000727Z
UID:fc212ac7-0cc4-4f48-a00c-2d3090f83e7e
DTSTART;VALUE=DATE:20160626
DTEND;VALUE=DATE:20160626
DESCRIPTION:Gallatin Valley BMX
LOCATION: 620 N 5th Ave  Bozeman MT 59715 USA
SUMMARY:Local Race Single
URL:/site/bmx_races/319214
END:VEVENT
END:VCALENDAR
