BEGIN:VCALENDAR
VERSION:2.0
PRODID:icalendar-ruby
CALSCALE:GREGORIAN
METHOD:PUBLISH
BEGIN:VEVENT
DTSTAMP:20260424T212458Z
UID:9d17a8e5-2d7b-4ec7-85b9-21a1a011234b
DTSTART;VALUE=DATE:20160623
DTEND;VALUE=DATE:20160623
DESCRIPTION:Yukon BMX
LOCATION:Taylor Park Sports Complex   410 N 11th St Yukon OK 73064 USA
SUMMARY:Practice
URL:/site/bmx_races/319298
END:VEVENT
END:VCALENDAR
