BEGIN:VCALENDAR
VERSION:2.0
PRODID:icalendar-ruby
CALSCALE:GREGORIAN
METHOD:PUBLISH
BEGIN:VEVENT
DTSTAMP:20260421T210811Z
UID:942b163c-2561-4ebb-a8d6-83fec1bb9aa2
DTSTART;VALUE=DATE:20161118
DTEND;VALUE=DATE:20161118
DESCRIPTION:Sand Springs BMX
LOCATION:2600 S River City Park Rd  Sand Springs OK 74063 USA
SUMMARY:Local Race Single
URL:/site/bmx_races/319470
END:VEVENT
END:VCALENDAR
