BEGIN:VCALENDAR
VERSION:2.0
PRODID:icalendar-ruby
CALSCALE:GREGORIAN
METHOD:PUBLISH
BEGIN:VEVENT
DTSTAMP:20260420T143624Z
UID:26b461f6-0c6a-47f0-844a-590b8cb4a837
DTSTART;VALUE=DATE:20160712
DTEND;VALUE=DATE:20160712
DESCRIPTION:Whitney Mesa BMX
LOCATION:1575 Galleria Dr  Henderson NV 89014 USA
SUMMARY:Local Race Single
URL:/site/bmx_races/319883
END:VEVENT
END:VCALENDAR
