BEGIN:VCALENDAR
VERSION:2.0
PRODID:icalendar-ruby
CALSCALE:GREGORIAN
METHOD:PUBLISH
BEGIN:VEVENT
DTSTAMP:20260424T110906Z
UID:01803d5a-61a8-4a57-a435-2ff452482049
DTSTART;VALUE=DATE:20161004
DTEND;VALUE=DATE:20161004
DESCRIPTION:Air Time BMX
LOCATION:5051 S Frankwood Ave  Reedley CA 93654 USA
SUMMARY:Local Race Single
URL:/site/bmx_races/320024
END:VEVENT
END:VCALENDAR
