BEGIN:VCALENDAR
VERSION:2.0
PRODID:icalendar-ruby
CALSCALE:GREGORIAN
METHOD:PUBLISH
BEGIN:VEVENT
DTSTAMP:20260424T094634Z
UID:424e5930-0d2f-40b7-a67f-68714c6722fd
DTSTART;VALUE=DATE:20161129
DTEND;VALUE=DATE:20161129
DESCRIPTION:Air Time BMX
LOCATION:5051 S Frankwood Ave  Reedley CA 93654 USA
SUMMARY:Local Race Single
URL:/site/bmx_races/320032
END:VEVENT
END:VCALENDAR
