BEGIN:VCALENDAR
VERSION:2.0
PRODID:icalendar-ruby
CALSCALE:GREGORIAN
METHOD:PUBLISH
BEGIN:VEVENT
DTSTAMP:20260421T135127Z
UID:ef5aa51a-501b-44a9-921f-0d1f8f620072
DTSTART;VALUE=DATE:20160604
DTEND;VALUE=DATE:20160604
DESCRIPTION:Naples BMX
LOCATION:4701 Golden Gate Parkway  Naples FL 34116 USA
SUMMARY:Standard Single
URL:/site/bmx_races/320045
END:VEVENT
END:VCALENDAR
