BEGIN:VCALENDAR
VERSION:2.0
PRODID:icalendar-ruby
CALSCALE:GREGORIAN
METHOD:PUBLISH
BEGIN:VEVENT
DTSTAMP:20260424T200512Z
UID:74334805-7196-4aad-90fa-64ac5f3776e3
DTSTART;VALUE=DATE:20160618
DTEND;VALUE=DATE:20160618
DESCRIPTION:Marquette BMX
LOCATION:910 Hawley Street  Marquette MI 49855 USA
SUMMARY:Standard Double Single
URL:/site/bmx_races/320208
END:VEVENT
END:VCALENDAR
