BEGIN:VCALENDAR
VERSION:2.0
PRODID:icalendar-ruby
CALSCALE:GREGORIAN
METHOD:PUBLISH
BEGIN:VEVENT
DTSTAMP:20260424T065045Z
UID:dfa754d8-5a70-4e44-9775-d3a7e3c219a5
DTSTART;VALUE=DATE:20170218
DTEND;VALUE=DATE:20170218
DESCRIPTION:Spartanburg BMX
LOCATION:1160 Old Furnace Rd  Boiling Springs SC 29316 USA
SUMMARY:Standard Single Single
URL:/site/bmx_races/321168
END:VEVENT
END:VCALENDAR
