BEGIN:VCALENDAR
VERSION:2.0
PRODID:icalendar-ruby
CALSCALE:GREGORIAN
METHOD:PUBLISH
BEGIN:VEVENT
DTSTAMP:20260425T234620Z
UID:e166812f-1a81-439c-8411-85fc40c9cb98
DTSTART;VALUE=DATE:20160809
DTEND;VALUE=DATE:20160809
DESCRIPTION:White Pine BMX
LOCATION:913 E 16th St  Ely NV 89301 USA
SUMMARY:Standard Single Single
URL:/site/bmx_races/321817
END:VEVENT
END:VCALENDAR
