BEGIN:VCALENDAR
VERSION:2.0
PRODID:icalendar-ruby
CALSCALE:GREGORIAN
METHOD:PUBLISH
BEGIN:VEVENT
DTSTAMP:20260419T173002Z
UID:5b759b92-d8b9-4751-b486-087b8d1b0a76
DTSTART;VALUE=DATE:20160926
DTEND;VALUE=DATE:20160926
DESCRIPTION:Bend BMX
LOCATION:21690 Neff Road  Bend OR 97701 USA
SUMMARY:Local Race Single
URL:/site/bmx_races/321973
END:VEVENT
END:VCALENDAR
