BEGIN:VCALENDAR
VERSION:2.0
PRODID:icalendar-ruby
CALSCALE:GREGORIAN
METHOD:PUBLISH
BEGIN:VEVENT
DTSTAMP:20260420T214605Z
UID:32de79e3-954a-4f2d-9056-20c5a5f4f84a
DTSTART;VALUE=DATE:20161015
DTEND;VALUE=DATE:20161015
DESCRIPTION:Mag Ridge BMX Park
LOCATION:344 Oldtown Crossing  Ridgeland MS 39157 USA
SUMMARY:Local Race Single
URL:/site/bmx_races/322078
END:VEVENT
END:VCALENDAR
