BEGIN:VCALENDAR
VERSION:2.0
PRODID:icalendar-ruby
CALSCALE:GREGORIAN
METHOD:PUBLISH
BEGIN:VEVENT
DTSTAMP:20260424T174625Z
UID:993e5a5f-ebc1-4c9a-939a-2b99d87f9218
DTSTART;VALUE=DATE:20160929
DTEND;VALUE=DATE:20160929
DESCRIPTION:Grand Valley BMX
LOCATION:2785 U.S. Highway 50  Grand Junction CO 81503 USA
SUMMARY:Practice
URL:/site/bmx_races/322239
END:VEVENT
END:VCALENDAR
