BEGIN:VCALENDAR
VERSION:2.0
PRODID:icalendar-ruby
CALSCALE:GREGORIAN
METHOD:PUBLISH
BEGIN:VEVENT
DTSTAMP:20260424T174623Z
UID:489e75df-47e3-4ff0-a303-0077c35d92fc
DTSTART;VALUE=DATE:20160913
DTEND;VALUE=DATE:20160913
DESCRIPTION:Cargill Park BMX
LOCATION:2800 Cargill Drive  Shreveport LA 71108 USA
SUMMARY:Practice
URL:/site/bmx_races/322274
END:VEVENT
END:VCALENDAR
