BEGIN:VCALENDAR
VERSION:2.0
PRODID:icalendar-ruby
CALSCALE:GREGORIAN
METHOD:PUBLISH
BEGIN:VEVENT
DTSTAMP:20260424T174445Z
UID:d5c4d131-9458-4083-b2bb-1e50441d883a
DTSTART;VALUE=DATE:20160924
DTEND;VALUE=DATE:20160924
DESCRIPTION:Cargill Park BMX
LOCATION:2800 Cargill Drive  Shreveport LA 71108 USA
SUMMARY:Local Race Single
URL:/site/bmx_races/322302
END:VEVENT
END:VCALENDAR
