BEGIN:VCALENDAR
VERSION:2.0
PRODID:icalendar-ruby
CALSCALE:GREGORIAN
METHOD:PUBLISH
BEGIN:VEVENT
DTSTAMP:20260423T230052Z
UID:f66ee66e-165c-4aab-a865-0d03ba403bf7
DTSTART;VALUE=DATE:20161012
DTEND;VALUE=DATE:20161012
DESCRIPTION:County Line BMX
LOCATION:8560 South Colorado Blvd  Centennial CO 80126 USA
SUMMARY:Practice
URL:/site/bmx_races/322498
END:VEVENT
END:VCALENDAR
