BEGIN:VCALENDAR
VERSION:2.0
PRODID:icalendar-ruby
CALSCALE:GREGORIAN
METHOD:PUBLISH
BEGIN:VEVENT
DTSTAMP:20260423T214202Z
UID:5a50da9e-c96c-4480-9bf6-b7270248b5f1
DTSTART;VALUE=DATE:20161109
DTEND;VALUE=DATE:20161109
DESCRIPTION:County Line BMX
LOCATION:8560 South Colorado Blvd  Centennial CO 80126 USA
SUMMARY:Practice
URL:/site/bmx_races/322502
END:VEVENT
END:VCALENDAR
