BEGIN:VCALENDAR
VERSION:2.0
PRODID:icalendar-ruby
CALSCALE:GREGORIAN
METHOD:PUBLISH
BEGIN:VEVENT
DTSTAMP:20260424T161303Z
UID:d8c51b4a-4674-494e-a760-06ef34e1a593
DTSTART;VALUE=DATE:20161021
DTEND;VALUE=DATE:20161021
DESCRIPTION:Cargill Park BMX
LOCATION:2800 Cargill Drive  Shreveport LA 71108 USA
SUMMARY:Practice
URL:/site/bmx_races/322557
END:VEVENT
END:VCALENDAR
