BEGIN:VCALENDAR
VERSION:2.0
PRODID:icalendar-ruby
CALSCALE:GREGORIAN
METHOD:PUBLISH
BEGIN:VEVENT
DTSTAMP:20260419T170650Z
UID:2d910348-57db-45ca-ac0e-17a95404d143
DTSTART;VALUE=DATE:20161005
DTEND;VALUE=DATE:20161005
DESCRIPTION:River Valley BMX
LOCATION:7800 Riverside Rd E  Sumner WA 98360 USA
SUMMARY:Local Race Single
URL:/site/bmx_races/322729
END:VEVENT
END:VCALENDAR
