BEGIN:VCALENDAR
VERSION:2.0
PRODID:icalendar-ruby
CALSCALE:GREGORIAN
METHOD:PUBLISH
BEGIN:VEVENT
DTSTAMP:20260425T232936Z
UID:c6667211-9cc9-4c8b-b1b2-18ca875bb35e
DTSTART;VALUE=DATE:20161120
DTEND;VALUE=DATE:20161120
DESCRIPTION:Dayton Indoor BMX
LOCATION:16 Edmund St  Dayton OH 45404-1668 USA
SUMMARY:Local Race Single
URL:/site/bmx_races/323171
END:VEVENT
END:VCALENDAR
