BEGIN:VCALENDAR
VERSION:2.0
PRODID:icalendar-ruby
CALSCALE:GREGORIAN
METHOD:PUBLISH
BEGIN:VEVENT
DTSTAMP:20260419T141259Z
UID:426ddbbb-5d26-440b-b09d-2a6e1f44538a
DTSTART;VALUE=DATE:20171215
DTEND;VALUE=DATE:20171215
DESCRIPTION:Boulder BMX\, Inc
LOCATION:1799 Commons Way  Boulder City NV 89005 USA
SUMMARY:Standard Single Single
URL:/site/bmx_races/323636
END:VEVENT
END:VCALENDAR
