BEGIN:VCALENDAR
VERSION:2.0
PRODID:icalendar-ruby
CALSCALE:GREGORIAN
METHOD:PUBLISH
BEGIN:VEVENT
DTSTAMP:20260422T210022Z
UID:40e000e8-b879-4c69-9e29-f2484ae14abf
DTSTART;VALUE=DATE:20161109
DTEND;VALUE=DATE:20161109
DESCRIPTION:HD BMX
LOCATION:17427 Live Oak St  Hesperia CA 92345 USA
SUMMARY:Local Race Single
URL:/site/bmx_races/323898
END:VEVENT
END:VCALENDAR
