BEGIN:VCALENDAR
VERSION:2.0
PRODID:icalendar-ruby
CALSCALE:GREGORIAN
METHOD:PUBLISH
BEGIN:VEVENT
DTSTAMP:20260420T182135Z
UID:ce4d02e6-6799-41cb-bf6d-5b78a240dc7c
DTSTART;VALUE=DATE:20161024
DTEND;VALUE=DATE:20161024
DESCRIPTION:Mag Ridge BMX Park
LOCATION:344 Oldtown Crossing  Ridgeland MS 39157 USA
SUMMARY:Non-Riding Event
URL:/site/bmx_races/324190
END:VEVENT
END:VCALENDAR
