BEGIN:VCALENDAR
VERSION:2.0
PRODID:icalendar-ruby
CALSCALE:GREGORIAN
METHOD:PUBLISH
BEGIN:VEVENT
DTSTAMP:20260424T060543Z
UID:d611d549-d7ce-4b2f-bd18-e63aa8e7dd79
DTSTART;VALUE=DATE:20161106
DTEND;VALUE=DATE:20161106
DESCRIPTION:Sea City BMX
LOCATION:  Corpus Christi TX 78418 USA
SUMMARY:Warnicke Single
URL:/site/bmx_races/324300
END:VEVENT
END:VCALENDAR
