BEGIN:VCALENDAR
VERSION:2.0
PRODID:icalendar-ruby
CALSCALE:GREGORIAN
METHOD:PUBLISH
BEGIN:VEVENT
DTSTAMP:20260420T112847Z
UID:f5bb056a-22a1-4563-8122-76b766e87012
DTSTART;VALUE=DATE:20161116
DTEND;VALUE=DATE:20161116
DESCRIPTION:San Diego BMX
LOCATION:3170 Armstrong Street Behind Kearny Mesa Recreation Center San Die
 go CA 92111 USA
SUMMARY:Warnicke Single
URL:/site/bmx_races/324469
END:VEVENT
END:VCALENDAR
