BEGIN:VCALENDAR
VERSION:2.0
PRODID:icalendar-ruby
CALSCALE:GREGORIAN
METHOD:PUBLISH
BEGIN:VEVENT
DTSTAMP:20260424T114050Z
UID:fbbe3bb5-3d71-4c91-8c54-3181cf4f3731
DTSTART;VALUE=DATE:20161114
DTEND;VALUE=DATE:20161114
DESCRIPTION:Yucca Valley BMX
LOCATION:6989 Sage Ave  Yucca Valley CA 92234 USA
SUMMARY:Local Race Single
URL:/site/bmx_races/325017
END:VEVENT
END:VCALENDAR
