BEGIN:VCALENDAR
VERSION:2.0
PRODID:icalendar-ruby
CALSCALE:GREGORIAN
METHOD:PUBLISH
BEGIN:VEVENT
DTSTAMP:20260424T062434Z
UID:d6416766-adea-4153-b906-b9478007bab9
DTSTART;VALUE=DATE:20171208
DTEND;VALUE=DATE:20171208
DESCRIPTION:Blanchard Woods BMX
LOCATION:4600 Blanchard Woods Drive  Evans GA 30809 USA
SUMMARY:Practice
URL:/site/bmx_races/325141
END:VEVENT
END:VCALENDAR
