BEGIN:VCALENDAR
VERSION:2.0
PRODID:icalendar-ruby
CALSCALE:GREGORIAN
METHOD:PUBLISH
BEGIN:VEVENT
DTSTAMP:20260424T062436Z
UID:10e36ff1-ec98-40e6-828e-1e079d3b0cf7
DTSTART;VALUE=DATE:20171209
DTEND;VALUE=DATE:20171209
DESCRIPTION:Blanchard Woods BMX
LOCATION:4600 Blanchard Woods Drive  Evans GA 30809 USA
SUMMARY:Local Race Single
URL:/site/bmx_races/325175
END:VEVENT
END:VCALENDAR
