BEGIN:VCALENDAR
VERSION:2.0
PRODID:icalendar-ruby
CALSCALE:GREGORIAN
METHOD:PUBLISH
BEGIN:VEVENT
DTSTAMP:20260423T220356Z
UID:cad074f4-4a5e-4fc1-89d5-d38f9d2cef2f
DTSTART;VALUE=DATE:20171022
DTEND;VALUE=DATE:20171022
DESCRIPTION:Grand Valley BMX
LOCATION:2785 U.S. Highway 50  Grand Junction CO 81503 USA
SUMMARY:Standard Single Single
URL:/site/bmx_races/325345
END:VEVENT
END:VCALENDAR
