BEGIN:VCALENDAR
VERSION:2.0
PRODID:icalendar-ruby
CALSCALE:GREGORIAN
METHOD:PUBLISH
BEGIN:VEVENT
DTSTAMP:20260422T035356Z
UID:f12fdf4c-ac8d-4983-8797-582d9958ae2e
DTSTART;VALUE=DATE:20170729
DTEND;VALUE=DATE:20170729
DESCRIPTION:Oak Mountain BMX
LOCATION:Oak Mountain State Park  Pelham AL 35043 USA
SUMMARY:Standard Single Single
URL:/site/bmx_races/325827
END:VEVENT
END:VCALENDAR
