BEGIN:VCALENDAR
VERSION:2.0
PRODID:icalendar-ruby
CALSCALE:GREGORIAN
METHOD:PUBLISH
BEGIN:VEVENT
DTSTAMP:20260426T015929Z
UID:59b94f59-2913-4dc0-b9e9-07c2a5d33d61
DTSTART;VALUE=DATE:20170729
DTEND;VALUE=DATE:20170729
DESCRIPTION:Bonzai BMX
LOCATION:7201 Arlene Laman Dr  N. Little Rock AR 72118 USA
SUMMARY:Standard Double Double
URL:/site/bmx_races/326153
END:VEVENT
END:VCALENDAR
