BEGIN:VCALENDAR
VERSION:2.0
PRODID:icalendar-ruby
CALSCALE:GREGORIAN
METHOD:PUBLISH
BEGIN:VEVENT
DTSTAMP:20260425T114404Z
UID:3603543b-5181-47f8-8d77-b73c3c06d5c5
DTSTART;VALUE=DATE:20170808
DTEND;VALUE=DATE:20170808
DESCRIPTION:Circle City BMX
LOCATION:Westgate Park    100 Recreation Rd Dothan AL 36305 USA
SUMMARY:Local Race Single
URL:/site/bmx_races/327118
END:VEVENT
END:VCALENDAR
