BEGIN:VCALENDAR
VERSION:2.0
PRODID:icalendar-ruby
CALSCALE:GREGORIAN
METHOD:PUBLISH
BEGIN:VEVENT
DTSTAMP:20260419T195226Z
UID:1e8429d6-49b5-458d-bfe9-96e6fa599dcb
DTSTART;VALUE=DATE:20170820
DTEND;VALUE=DATE:20170820
DESCRIPTION:County Line BMX
LOCATION:8560 South Colorado Blvd  Centennial CO 80126 USA
SUMMARY:Standard Single Single
URL:/site/bmx_races/327601
END:VEVENT
END:VCALENDAR
