BEGIN:VCALENDAR
VERSION:2.0
PRODID:icalendar-ruby
CALSCALE:GREGORIAN
METHOD:PUBLISH
BEGIN:VEVENT
DTSTAMP:20260424T060630Z
UID:a0d214ea-13e5-4c14-baad-23baad9f85de
DTSTART;VALUE=DATE:20170819
DTEND;VALUE=DATE:20170819
DESCRIPTION:Cedar BMX
LOCATION:Red Barn Village Rd  Clarks Summit PA 18644 USA
SUMMARY:Standard Single Single
URL:/site/bmx_races/328115
END:VEVENT
END:VCALENDAR
