BEGIN:VCALENDAR
VERSION:2.0
PRODID:icalendar-ruby
CALSCALE:GREGORIAN
METHOD:PUBLISH
BEGIN:VEVENT
DTSTAMP:20260425T010944Z
UID:0760f11d-961c-48e7-a192-613a2f1a1274
DTSTART;VALUE=DATE:20170404
DTEND;VALUE=DATE:20170404
DESCRIPTION:Ed Fountain Park BMX Raceway
LOCATION:1400 N Decatur Blvd  Las Vegas NV 89108 USA
SUMMARY:Practice
URL:/site/bmx_races/328322
END:VEVENT
END:VCALENDAR
