BEGIN:VCALENDAR
VERSION:2.0
PRODID:icalendar-ruby
CALSCALE:GREGORIAN
METHOD:PUBLISH
BEGIN:VEVENT
DTSTAMP:20260424T234747Z
UID:50681c0f-be9e-4cf3-9117-b64e825a7d2d
DTSTART;VALUE=DATE:20170516
DTEND;VALUE=DATE:20170516
DESCRIPTION:Ed Fountain Park BMX Raceway
LOCATION:1400 N Decatur Blvd  Las Vegas NV 89108 USA
SUMMARY:Practice
URL:/site/bmx_races/328346
END:VEVENT
END:VCALENDAR
