BEGIN:VCALENDAR
VERSION:2.0
PRODID:icalendar-ruby
CALSCALE:GREGORIAN
METHOD:PUBLISH
BEGIN:VEVENT
DTSTAMP:20260424T193701Z
UID:fb37fe6e-09e8-49e5-adb1-b559fad31d9f
DTSTART;VALUE=DATE:20170802
DTEND;VALUE=DATE:20170802
DESCRIPTION:Ed Fountain Park BMX Raceway
LOCATION:1400 N Decatur Blvd  Las Vegas NV 89108 USA
SUMMARY:Clinic
URL:/site/bmx_races/328391
END:VEVENT
END:VCALENDAR
