BEGIN:VCALENDAR
VERSION:2.0
PRODID:icalendar-ruby
CALSCALE:GREGORIAN
METHOD:PUBLISH
BEGIN:VEVENT
DTSTAMP:20260424T181245Z
UID:5e1e70b0-ac23-475d-b0ba-64afbc4b8568
DTSTART;VALUE=DATE:20170912
DTEND;VALUE=DATE:20170912
DESCRIPTION:Ed Fountain Park BMX Raceway
LOCATION:1400 N Decatur Blvd  Las Vegas NV 89108 USA
SUMMARY:Practice
URL:/site/bmx_races/328414
END:VEVENT
END:VCALENDAR
