BEGIN:VCALENDAR
VERSION:2.0
PRODID:icalendar-ruby
CALSCALE:GREGORIAN
METHOD:PUBLISH
BEGIN:VEVENT
DTSTAMP:20260424T163347Z
UID:51a1a175-3012-4b8b-a111-d84d06af4738
DTSTART;VALUE=DATE:20171017
DTEND;VALUE=DATE:20171017
DESCRIPTION:Ed Fountain Park BMX Raceway
LOCATION:1400 N Decatur Blvd  Las Vegas NV 89108 USA
SUMMARY:Practice
URL:/site/bmx_races/328434
END:VEVENT
END:VCALENDAR
