BEGIN:VCALENDAR
VERSION:2.0
PRODID:icalendar-ruby
CALSCALE:GREGORIAN
METHOD:PUBLISH
BEGIN:VEVENT
DTSTAMP:20260424T163347Z
UID:7c84cf71-a999-43f5-a394-07f6bc8770ca
DTSTART;VALUE=DATE:20171019
DTEND;VALUE=DATE:20171019
DESCRIPTION:Ed Fountain Park BMX Raceway
LOCATION:1400 N Decatur Blvd  Las Vegas NV 89108 USA
SUMMARY:Standard Single Single
URL:/site/bmx_races/328437
END:VEVENT
END:VCALENDAR
