BEGIN:VCALENDAR
VERSION:2.0
PRODID:icalendar-ruby
CALSCALE:GREGORIAN
METHOD:PUBLISH
BEGIN:VEVENT
DTSTAMP:20260424T150302Z
UID:4740d218-83eb-4cd2-b2ce-99b97d67aa2d
DTSTART;VALUE=DATE:20171115
DTEND;VALUE=DATE:20171115
DESCRIPTION:Ed Fountain Park BMX Raceway
LOCATION:1400 N Decatur Blvd  Las Vegas NV 89108 USA
SUMMARY:Clinic
URL:/site/bmx_races/328452
END:VEVENT
END:VCALENDAR
