BEGIN:VCALENDAR
VERSION:2.0
PRODID:icalendar-ruby
CALSCALE:GREGORIAN
METHOD:PUBLISH
BEGIN:VEVENT
DTSTAMP:20260421T220126Z
UID:59d69b56-27d8-4466-8f44-bf29df1bc9ec
DTSTART;VALUE=DATE:20170201
DTEND;VALUE=DATE:20170201
DESCRIPTION:Redwood Empire BMX
LOCATION:201 Vance Ave  Samoa CA 95564 USA
SUMMARY:Practice
URL:/site/bmx_races/329038
END:VEVENT
END:VCALENDAR
