BEGIN:VCALENDAR
VERSION:2.0
PRODID:icalendar-ruby
CALSCALE:GREGORIAN
METHOD:PUBLISH
BEGIN:VEVENT
DTSTAMP:20260421T184557Z
UID:5af84dc7-e550-47aa-a680-0413dd499ea6
DTSTART;VALUE=DATE:20170510
DTEND;VALUE=DATE:20170510
DESCRIPTION:Redwood Empire BMX
LOCATION:201 Vance Ave  Samoa CA 95564 USA
SUMMARY:Practice
URL:/site/bmx_races/329080
END:VEVENT
END:VCALENDAR
