BEGIN:VCALENDAR
VERSION:2.0
PRODID:icalendar-ruby
CALSCALE:GREGORIAN
METHOD:PUBLISH
BEGIN:VEVENT
DTSTAMP:20260421T122838Z
UID:5ba7fde0-0a62-4cad-b538-c92a6082acfc
DTSTART;VALUE=DATE:20170910
DTEND;VALUE=DATE:20170910
DESCRIPTION:Redwood Empire BMX
LOCATION:201 Vance Ave  Samoa CA 95564 USA
SUMMARY:Standard Single Single
URL:/site/bmx_races/329131
END:VEVENT
END:VCALENDAR
