BEGIN:VCALENDAR
VERSION:2.0
PRODID:icalendar-ruby
CALSCALE:GREGORIAN
METHOD:PUBLISH
BEGIN:VEVENT
DTSTAMP:20260421T104406Z
UID:4577bffb-262e-429a-a7d0-1feff9982816
DTSTART;VALUE=DATE:20171025
DTEND;VALUE=DATE:20171025
DESCRIPTION:Redwood Empire BMX
LOCATION:201 Vance Ave  Samoa CA 95564 USA
SUMMARY:Practice
URL:/site/bmx_races/329150
END:VEVENT
END:VCALENDAR
