BEGIN:VCALENDAR
VERSION:2.0
PRODID:icalendar-ruby
CALSCALE:GREGORIAN
METHOD:PUBLISH
BEGIN:VEVENT
DTSTAMP:20260421T104233Z
UID:59cd8395-d27a-4a22-bb1f-2cc4c17cae39
DTSTART;VALUE=DATE:20171027
DTEND;VALUE=DATE:20171027
DESCRIPTION:Redwood Empire BMX
LOCATION:201 Vance Ave  Samoa CA 95564 USA
SUMMARY:Standard Single Single
URL:/site/bmx_races/329151
END:VEVENT
END:VCALENDAR
