BEGIN:VCALENDAR
VERSION:2.0
PRODID:icalendar-ruby
CALSCALE:GREGORIAN
METHOD:PUBLISH
BEGIN:VEVENT
DTSTAMP:20260426T035818Z
UID:ec835534-2660-48e2-a705-2a0b2298462c
DTSTART;VALUE=DATE:20170125
DTEND;VALUE=DATE:20170125
DESCRIPTION:Grand Prix BMX at SoCal Fair
LOCATION:18700 Lake Perris Dr  Perris CA 92571 USA
SUMMARY:Standard Single Single
URL:/site/bmx_races/329370
END:VEVENT
END:VCALENDAR
