BEGIN:VCALENDAR
VERSION:2.0
PRODID:icalendar-ruby
CALSCALE:GREGORIAN
METHOD:PUBLISH
BEGIN:VEVENT
DTSTAMP:20260426T022803Z
UID:8768103a-5957-4db8-b975-53eb1d6dcb0d
DTSTART;VALUE=DATE:20170227
DTEND;VALUE=DATE:20170227
DESCRIPTION:Grand Prix BMX at SoCal Fair
LOCATION:18700 Lake Perris Dr  Perris CA 92571 USA
SUMMARY:Practice
URL:/site/bmx_races/329384
END:VEVENT
END:VCALENDAR
