BEGIN:VCALENDAR
VERSION:2.0
PRODID:icalendar-ruby
CALSCALE:GREGORIAN
METHOD:PUBLISH
BEGIN:VEVENT
DTSTAMP:20260425T214456Z
UID:f2d8e091-f36e-4a47-aa52-204512590eb8
DTSTART;VALUE=DATE:20170529
DTEND;VALUE=DATE:20170529
DESCRIPTION:Grand Prix BMX at SoCal Fair
LOCATION:18700 Lake Perris Dr  Perris CA 92571 USA
SUMMARY:Practice
URL:/site/bmx_races/329423
END:VEVENT
END:VCALENDAR
