BEGIN:VCALENDAR
VERSION:2.0
PRODID:icalendar-ruby
CALSCALE:GREGORIAN
METHOD:PUBLISH
BEGIN:VEVENT
DTSTAMP:20260425T170643Z
UID:35783036-fe75-4446-b91f-c18313cf6e83
DTSTART;VALUE=DATE:20170805
DTEND;VALUE=DATE:20170805
DESCRIPTION:Grand Prix BMX at SoCal Fair
LOCATION:18700 Lake Perris Dr  Perris CA 92571 USA
SUMMARY:Local Race Single
URL:/site/bmx_races/329452
END:VEVENT
END:VCALENDAR
